BEGIN:VCALENDAR
VERSION:2.0
PRODID:-//St. Sebastianus Schützenbruderschaft Rösrath 1927 e.V. - ECPv6.15.16.1//NONSGML v1.0//EN
CALSCALE:GREGORIAN
METHOD:PUBLISH
X-ORIGINAL-URL:http://schuetzen-roesrath.de
X-WR-CALDESC:Veranstaltungen für St. Sebastianus Schützenbruderschaft Rösrath 1927 e.V.
REFRESH-INTERVAL;VALUE=DURATION:PT1H
X-Robots-Tag:noindex
X-PUBLISHED-TTL:PT1H
BEGIN:VTIMEZONE
TZID:Europe/Berlin
BEGIN:DAYLIGHT
TZOFFSETFROM:+0100
TZOFFSETTO:+0200
TZNAME:CEST
DTSTART:20210328T010000
END:DAYLIGHT
BEGIN:STANDARD
TZOFFSETFROM:+0200
TZOFFSETTO:+0100
TZNAME:CET
DTSTART:20211031T010000
END:STANDARD
BEGIN:DAYLIGHT
TZOFFSETFROM:+0100
TZOFFSETTO:+0200
TZNAME:CEST
DTSTART:20220327T010000
END:DAYLIGHT
BEGIN:STANDARD
TZOFFSETFROM:+0200
TZOFFSETTO:+0100
TZNAME:CET
DTSTART:20221030T010000
END:STANDARD
BEGIN:DAYLIGHT
TZOFFSETFROM:+0100
TZOFFSETTO:+0200
TZNAME:CEST
DTSTART:20230326T010000
END:DAYLIGHT
BEGIN:STANDARD
TZOFFSETFROM:+0200
TZOFFSETTO:+0100
TZNAME:CET
DTSTART:20231029T010000
END:STANDARD
END:VTIMEZONE
BEGIN:VEVENT
DTSTART;TZID=Europe/Berlin:20220601T170000
DTEND;TZID=Europe/Berlin:20220601T190000
DTSTAMP:20260425T131430
CREATED:20220119T163653Z
LAST-MODIFIED:20220119T163653Z
UID:1010-1654102800-1654110000@schuetzen-roesrath.de
SUMMARY:Jugend LG/LP-Training
DESCRIPTION:
URL:http://schuetzen-roesrath.de/termine/jugend-lg-lp-training-24/
LOCATION:Schützenheim\, Scharrenbroicher Str. / Schützenplatz\, Rösrath\, NRW\, 51503\, Deutschland
ORGANIZER;CN="St. Sebastianus Sch%C3%BCtzenbruderschaft R%C3%B6srath 1927 e.V.":MAILTO:info@schuetzen-roesrath.de
END:VEVENT
BEGIN:VEVENT
DTSTART;TZID=Europe/Berlin:20220601T193000
DTEND;TZID=Europe/Berlin:20220601T233000
DTSTAMP:20260425T131430
CREATED:20220119T163738Z
LAST-MODIFIED:20220119T163738Z
UID:1012-1654111800-1654126200@schuetzen-roesrath.de
SUMMARY:LG-Training
DESCRIPTION:
URL:http://schuetzen-roesrath.de/termine/lg-training-29/
LOCATION:Schützenheim\, Scharrenbroicher Str. / Schützenplatz\, Rösrath\, NRW\, 51503\, Deutschland
ORGANIZER;CN="St. Sebastianus Sch%C3%BCtzenbruderschaft R%C3%B6srath 1927 e.V.":MAILTO:info@schuetzen-roesrath.de
END:VEVENT
BEGIN:VEVENT
DTSTART;VALUE=DATE:20220604
DTEND;VALUE=DATE:20220605
DTSTAMP:20260425T131430
CREATED:20220210T112236Z
LAST-MODIFIED:20220210T112236Z
UID:1020-1654300800-1654387199@schuetzen-roesrath.de
SUMMARY:Res.
DESCRIPTION:
URL:http://schuetzen-roesrath.de/termine/res-31/
LOCATION:Schützenheim\, Scharrenbroicher Str. / Schützenplatz\, Rösrath\, NRW\, 51503\, Deutschland
END:VEVENT
BEGIN:VEVENT
DTSTART;VALUE=DATE:20220605
DTEND;VALUE=DATE:20220606
DTSTAMP:20260425T131430
CREATED:20220210T112306Z
LAST-MODIFIED:20220210T112306Z
UID:1022-1654387200-1654473599@schuetzen-roesrath.de
SUMMARY:Res.
DESCRIPTION:
URL:http://schuetzen-roesrath.de/termine/res-32/
LOCATION:Schützenheim\, Scharrenbroicher Str. / Schützenplatz\, Rösrath\, NRW\, 51503\, Deutschland
END:VEVENT
BEGIN:VEVENT
DTSTART;TZID=Europe/Berlin:20220606T150000
DTEND;TZID=Europe/Berlin:20220606T190000
DTSTAMP:20260425T131430
CREATED:20220301T095545Z
LAST-MODIFIED:20220301T095545Z
UID:1049-1654527600-1654542000@schuetzen-roesrath.de
SUMMARY:KK-Training
DESCRIPTION:
URL:http://schuetzen-roesrath.de/termine/kk-training-28/
LOCATION:Schützenheim\, Scharrenbroicher Str. / Schützenplatz\, Rösrath\, NRW\, 51503\, Deutschland
ORGANIZER;CN="St. Sebastianus Sch%C3%BCtzenbruderschaft R%C3%B6srath 1927 e.V.":MAILTO:info@schuetzen-roesrath.de
END:VEVENT
BEGIN:VEVENT
DTSTART;TZID=Europe/Berlin:20220608T170000
DTEND;TZID=Europe/Berlin:20220608T190000
DTSTAMP:20260425T131430
CREATED:20220301T095650Z
LAST-MODIFIED:20220301T095650Z
UID:1051-1654707600-1654714800@schuetzen-roesrath.de
SUMMARY:LG/LP-Training Jugend
DESCRIPTION:
URL:http://schuetzen-roesrath.de/termine/lg-lp-training-jugend-2/
LOCATION:Schützenheim\, Scharrenbroicher Str. / Schützenplatz\, Rösrath\, NRW\, 51503\, Deutschland
ORGANIZER;CN="St. Sebastianus Sch%C3%BCtzenbruderschaft R%C3%B6srath 1927 e.V.":MAILTO:info@schuetzen-roesrath.de
END:VEVENT
BEGIN:VEVENT
DTSTART;TZID=Europe/Berlin:20220608T193000
DTEND;TZID=Europe/Berlin:20220608T233000
DTSTAMP:20260425T131430
CREATED:20220301T095744Z
LAST-MODIFIED:20220301T095744Z
UID:1053-1654716600-1654731000@schuetzen-roesrath.de
SUMMARY:Vereinsmeisterschaft 2022
DESCRIPTION:
URL:http://schuetzen-roesrath.de/termine/vereinsmeisterschaft-2022/
LOCATION:Schützenheim\, Scharrenbroicher Str. / Schützenplatz\, Rösrath\, NRW\, 51503\, Deutschland
ORGANIZER;CN="St. Sebastianus Sch%C3%BCtzenbruderschaft R%C3%B6srath 1927 e.V.":MAILTO:info@schuetzen-roesrath.de
END:VEVENT
BEGIN:VEVENT
DTSTART;VALUE=DATE:20220611
DTEND;VALUE=DATE:20220612
DTSTAMP:20260425T131430
CREATED:20220419T081928Z
LAST-MODIFIED:20220419T081928Z
UID:1119-1654905600-1654991999@schuetzen-roesrath.de
SUMMARY:Res.
DESCRIPTION:
URL:http://schuetzen-roesrath.de/termine/res-25/
LOCATION:Schützenheim\, Scharrenbroicher Str. / Schützenplatz\, Rösrath\, NRW\, 51503\, Deutschland
END:VEVENT
BEGIN:VEVENT
DTSTART;TZID=Europe/Berlin:20220613T150000
DTEND;TZID=Europe/Berlin:20220613T190000
DTSTAMP:20260425T131430
CREATED:20220301T095839Z
LAST-MODIFIED:20220301T095839Z
UID:1055-1655132400-1655146800@schuetzen-roesrath.de
SUMMARY:KK-Training
DESCRIPTION:
URL:http://schuetzen-roesrath.de/termine/kk-training-29/
LOCATION:Schützenheim\, Scharrenbroicher Str. / Schützenplatz\, Rösrath\, NRW\, 51503\, Deutschland
ORGANIZER;CN="St. Sebastianus Sch%C3%BCtzenbruderschaft R%C3%B6srath 1927 e.V.":MAILTO:info@schuetzen-roesrath.de
END:VEVENT
BEGIN:VEVENT
DTSTART;TZID=Europe/Berlin:20220615T170000
DTEND;TZID=Europe/Berlin:20220615T190000
DTSTAMP:20260425T131430
CREATED:20220301T095943Z
LAST-MODIFIED:20220301T095943Z
UID:1057-1655312400-1655319600@schuetzen-roesrath.de
SUMMARY:LG/LP-Training Jugend
DESCRIPTION:
URL:http://schuetzen-roesrath.de/termine/lg-lp-training-jugend-3/
LOCATION:Schützenheim\, Scharrenbroicher Str. / Schützenplatz\, Rösrath\, NRW\, 51503\, Deutschland
ORGANIZER;CN="St. Sebastianus Sch%C3%BCtzenbruderschaft R%C3%B6srath 1927 e.V.":MAILTO:info@schuetzen-roesrath.de
END:VEVENT
BEGIN:VEVENT
DTSTART;TZID=Europe/Berlin:20220615T193000
DTEND;TZID=Europe/Berlin:20220615T233000
DTSTAMP:20260425T131430
CREATED:20220301T100028Z
LAST-MODIFIED:20220301T100028Z
UID:1059-1655321400-1655335800@schuetzen-roesrath.de
SUMMARY:LG-Training
DESCRIPTION:
URL:http://schuetzen-roesrath.de/termine/lg-training-30/
LOCATION:Schützenheim\, Scharrenbroicher Str. / Schützenplatz\, Rösrath\, NRW\, 51503\, Deutschland
ORGANIZER;CN="St. Sebastianus Sch%C3%BCtzenbruderschaft R%C3%B6srath 1927 e.V.":MAILTO:info@schuetzen-roesrath.de
END:VEVENT
BEGIN:VEVENT
DTSTART;VALUE=DATE:20220617
DTEND;VALUE=DATE:20220618
DTSTAMP:20260425T131430
CREATED:20220310T113904Z
LAST-MODIFIED:20220310T113904Z
UID:1106-1655424000-1655510399@schuetzen-roesrath.de
SUMMARY:Res.
DESCRIPTION:
URL:http://schuetzen-roesrath.de/termine/res-36/
LOCATION:Schützenheim\, Scharrenbroicher Str. / Schützenplatz\, Rösrath\, NRW\, 51503\, Deutschland
END:VEVENT
BEGIN:VEVENT
DTSTART;VALUE=DATE:20220618
DTEND;VALUE=DATE:20220619
DTSTAMP:20260425T131430
CREATED:20220310T113939Z
LAST-MODIFIED:20220310T113939Z
UID:1108-1655510400-1655596799@schuetzen-roesrath.de
SUMMARY:Res.
DESCRIPTION:
URL:http://schuetzen-roesrath.de/termine/res-42/
LOCATION:Schützenheim\, Scharrenbroicher Str. / Schützenplatz\, Rösrath\, NRW\, 51503\, Deutschland
END:VEVENT
BEGIN:VEVENT
DTSTART;TZID=Europe/Berlin:20220620T150000
DTEND;TZID=Europe/Berlin:20220620T180000
DTSTAMP:20260425T131430
CREATED:20220301T100145Z
LAST-MODIFIED:20220301T100145Z
UID:1061-1655737200-1655748000@schuetzen-roesrath.de
SUMMARY:KK-Training
DESCRIPTION:
URL:http://schuetzen-roesrath.de/termine/kk-training-30/
LOCATION:Schützenheim\, Scharrenbroicher Str. / Schützenplatz\, Rösrath\, NRW\, 51503\, Deutschland
ORGANIZER;CN="St. Sebastianus Sch%C3%BCtzenbruderschaft R%C3%B6srath 1927 e.V.":MAILTO:info@schuetzen-roesrath.de
END:VEVENT
BEGIN:VEVENT
DTSTART;TZID=Europe/Berlin:20220620T180000
DTEND;TZID=Europe/Berlin:20220620T210000
DTSTAMP:20260425T131430
CREATED:20220104T105330Z
LAST-MODIFIED:20220104T105330Z
UID:955-1655748000-1655758800@schuetzen-roesrath.de
SUMMARY:RöBus
DESCRIPTION:
URL:http://schuetzen-roesrath.de/termine/roebus-6/
LOCATION:Schützenheim\, Scharrenbroicher Str. / Schützenplatz\, Rösrath\, NRW\, 51503\, Deutschland
END:VEVENT
BEGIN:VEVENT
DTSTART;TZID=Europe/Berlin:20220622T170000
DTEND;TZID=Europe/Berlin:20220622T190000
DTSTAMP:20260425T131430
CREATED:20220301T100302Z
LAST-MODIFIED:20220301T100302Z
UID:1063-1655917200-1655924400@schuetzen-roesrath.de
SUMMARY:LG/LP-Training Jugend
DESCRIPTION:
URL:http://schuetzen-roesrath.de/termine/lg-lp-training-jugend-4/
LOCATION:Schützenheim\, Scharrenbroicher Str. / Schützenplatz\, Rösrath\, NRW\, 51503\, Deutschland
ORGANIZER;CN="St. Sebastianus Sch%C3%BCtzenbruderschaft R%C3%B6srath 1927 e.V.":MAILTO:info@schuetzen-roesrath.de
END:VEVENT
BEGIN:VEVENT
DTSTART;TZID=Europe/Berlin:20220622T193000
DTEND;TZID=Europe/Berlin:20220622T233000
DTSTAMP:20260425T131430
CREATED:20220301T100411Z
LAST-MODIFIED:20220301T100411Z
UID:1065-1655926200-1655940600@schuetzen-roesrath.de
SUMMARY:Vereinsmeisterschaft 2022
DESCRIPTION:
URL:http://schuetzen-roesrath.de/termine/vereinsmeisterschaft-2022-2/
LOCATION:Schützenheim\, Scharrenbroicher Str. / Schützenplatz\, Rösrath\, NRW\, 51503\, Deutschland
ORGANIZER;CN="St. Sebastianus Sch%C3%BCtzenbruderschaft R%C3%B6srath 1927 e.V.":MAILTO:info@schuetzen-roesrath.de
END:VEVENT
BEGIN:VEVENT
DTSTART;VALUE=DATE:20220624
DTEND;VALUE=DATE:20220625
DTSTAMP:20260425T131430
CREATED:20220419T082045Z
LAST-MODIFIED:20220419T082045Z
UID:1121-1656028800-1656115199@schuetzen-roesrath.de
SUMMARY:Res.
DESCRIPTION:
URL:http://schuetzen-roesrath.de/termine/res-30/
LOCATION:Schützenheim\, Scharrenbroicher Str. / Schützenplatz\, Rösrath\, NRW\, 51503\, Deutschland
END:VEVENT
BEGIN:VEVENT
DTSTART;VALUE=DATE:20220625
DTEND;VALUE=DATE:20220626
DTSTAMP:20260425T131430
CREATED:20220310T114012Z
LAST-MODIFIED:20220310T114012Z
UID:1110-1656115200-1656201599@schuetzen-roesrath.de
SUMMARY:Res.
DESCRIPTION:
URL:http://schuetzen-roesrath.de/termine/res-43/
LOCATION:Schützenheim\, Scharrenbroicher Str. / Schützenplatz\, Rösrath\, NRW\, 51503\, Deutschland
END:VEVENT
BEGIN:VEVENT
DTSTART;TZID=Europe/Berlin:20220627T150000
DTEND;TZID=Europe/Berlin:20220627T190000
DTSTAMP:20260425T131430
CREATED:20220301T100503Z
LAST-MODIFIED:20220301T100503Z
UID:1067-1656342000-1656356400@schuetzen-roesrath.de
SUMMARY:KK-Training
DESCRIPTION:
URL:http://schuetzen-roesrath.de/termine/kk-training-31/
LOCATION:Schützenheim\, Scharrenbroicher Str. / Schützenplatz\, Rösrath\, NRW\, 51503\, Deutschland
ORGANIZER;CN="St. Sebastianus Sch%C3%BCtzenbruderschaft R%C3%B6srath 1927 e.V.":MAILTO:info@schuetzen-roesrath.de
END:VEVENT
BEGIN:VEVENT
DTSTART;TZID=Europe/Berlin:20220629T170000
DTEND;TZID=Europe/Berlin:20220629T190000
DTSTAMP:20260425T131430
CREATED:20220301T100603Z
LAST-MODIFIED:20220301T100603Z
UID:1069-1656522000-1656529200@schuetzen-roesrath.de
SUMMARY:LG/LP-Training Jugend
DESCRIPTION:
URL:http://schuetzen-roesrath.de/termine/lg-lp-training-jugend-5/
LOCATION:Schützenheim\, Scharrenbroicher Str. / Schützenplatz\, Rösrath\, NRW\, 51503\, Deutschland
ORGANIZER;CN="St. Sebastianus Sch%C3%BCtzenbruderschaft R%C3%B6srath 1927 e.V.":MAILTO:info@schuetzen-roesrath.de
END:VEVENT
BEGIN:VEVENT
DTSTART;TZID=Europe/Berlin:20220629T193000
DTEND;TZID=Europe/Berlin:20220629T233000
DTSTAMP:20260425T131430
CREATED:20220301T100653Z
LAST-MODIFIED:20220301T100653Z
UID:1071-1656531000-1656545400@schuetzen-roesrath.de
SUMMARY:LG-Training
DESCRIPTION:
URL:http://schuetzen-roesrath.de/termine/lg-training-31/
LOCATION:Schützenheim\, Scharrenbroicher Str. / Schützenplatz\, Rösrath\, NRW\, 51503\, Deutschland
ORGANIZER;CN="St. Sebastianus Sch%C3%BCtzenbruderschaft R%C3%B6srath 1927 e.V.":MAILTO:info@schuetzen-roesrath.de
END:VEVENT
END:VCALENDAR