BEGIN:VCALENDAR
VERSION:2.0
PRODID:-//St. Sebastianus Schützenbruderschaft Rösrath 1927 e.V. - ECPv6.15.16.1//NONSGML v1.0//EN
CALSCALE:GREGORIAN
METHOD:PUBLISH
X-ORIGINAL-URL:http://schuetzen-roesrath.de
X-WR-CALDESC:Veranstaltungen für St. Sebastianus Schützenbruderschaft Rösrath 1927 e.V.
REFRESH-INTERVAL;VALUE=DURATION:PT1H
X-Robots-Tag:noindex
X-PUBLISHED-TTL:PT1H
BEGIN:VTIMEZONE
TZID:Europe/Berlin
BEGIN:DAYLIGHT
TZOFFSETFROM:+0100
TZOFFSETTO:+0200
TZNAME:CEST
DTSTART:20210328T010000
END:DAYLIGHT
BEGIN:STANDARD
TZOFFSETFROM:+0200
TZOFFSETTO:+0100
TZNAME:CET
DTSTART:20211031T010000
END:STANDARD
BEGIN:DAYLIGHT
TZOFFSETFROM:+0100
TZOFFSETTO:+0200
TZNAME:CEST
DTSTART:20220327T010000
END:DAYLIGHT
BEGIN:STANDARD
TZOFFSETFROM:+0200
TZOFFSETTO:+0100
TZNAME:CET
DTSTART:20221030T010000
END:STANDARD
BEGIN:DAYLIGHT
TZOFFSETFROM:+0100
TZOFFSETTO:+0200
TZNAME:CEST
DTSTART:20230326T010000
END:DAYLIGHT
BEGIN:STANDARD
TZOFFSETFROM:+0200
TZOFFSETTO:+0100
TZNAME:CET
DTSTART:20231029T010000
END:STANDARD
END:VTIMEZONE
BEGIN:VEVENT
DTSTART;TZID=Europe/Berlin:20220202T170000
DTEND;TZID=Europe/Berlin:20220202T190000
DTSTAMP:20260425T050517
CREATED:20211106T183908Z
LAST-MODIFIED:20211106T183908Z
UID:760-1643821200-1643828400@schuetzen-roesrath.de
SUMMARY:Jugend LG/LP-Training
DESCRIPTION:
URL:http://schuetzen-roesrath.de/termine/jugend-lg-lp-training-9/
LOCATION:Schützenheim\, Scharrenbroicher Str. / Schützenplatz\, Rösrath\, NRW\, 51503\, Deutschland
ORGANIZER;CN="St. Sebastianus Sch%C3%BCtzenbruderschaft R%C3%B6srath 1927 e.V.":MAILTO:info@schuetzen-roesrath.de
END:VEVENT
BEGIN:VEVENT
DTSTART;TZID=Europe/Berlin:20220202T193000
DTEND;TZID=Europe/Berlin:20220202T233000
DTSTAMP:20260425T050517
CREATED:20211106T183947Z
LAST-MODIFIED:20211106T183947Z
UID:762-1643830200-1643844600@schuetzen-roesrath.de
SUMMARY:LG-Training
DESCRIPTION:
URL:http://schuetzen-roesrath.de/termine/lg-training-12/
LOCATION:Schützenheim\, Scharrenbroicher Str. / Schützenplatz\, Rösrath\, NRW\, 51503\, Deutschland
ORGANIZER;CN="St. Sebastianus Sch%C3%BCtzenbruderschaft R%C3%B6srath 1927 e.V.":MAILTO:info@schuetzen-roesrath.de
END:VEVENT
BEGIN:VEVENT
DTSTART;TZID=Europe/Berlin:20220207T150000
DTEND;TZID=Europe/Berlin:20220207T190000
DTSTAMP:20260425T050517
CREATED:20211107T172252Z
LAST-MODIFIED:20211107T172252Z
UID:784-1644246000-1644260400@schuetzen-roesrath.de
SUMMARY:KK-Training
DESCRIPTION:KK-Gewehr aufgelegt 50m \nKK-Pistole 25m
URL:http://schuetzen-roesrath.de/termine/kk-training-12/
LOCATION:Schützenheim\, Scharrenbroicher Str. / Schützenplatz\, Rösrath\, NRW\, 51503\, Deutschland
ORGANIZER;CN="St. Sebastianus Sch%C3%BCtzenbruderschaft R%C3%B6srath 1927 e.V.":MAILTO:info@schuetzen-roesrath.de
END:VEVENT
BEGIN:VEVENT
DTSTART;TZID=Europe/Berlin:20220209T170000
DTEND;TZID=Europe/Berlin:20220209T190000
DTSTAMP:20260425T050517
CREATED:20211107T172359Z
LAST-MODIFIED:20211107T172359Z
UID:786-1644426000-1644433200@schuetzen-roesrath.de
SUMMARY:Jugend LG/LP-Training
DESCRIPTION:
URL:http://schuetzen-roesrath.de/termine/jugend-lg-lp-training-10/
LOCATION:Schützenheim\, Scharrenbroicher Str. / Schützenplatz\, Rösrath\, NRW\, 51503\, Deutschland
ORGANIZER;CN="St. Sebastianus Sch%C3%BCtzenbruderschaft R%C3%B6srath 1927 e.V.":MAILTO:info@schuetzen-roesrath.de
END:VEVENT
BEGIN:VEVENT
DTSTART;TZID=Europe/Berlin:20220209T193000
DTEND;TZID=Europe/Berlin:20220209T233000
DTSTAMP:20260425T050517
CREATED:20211107T172610Z
LAST-MODIFIED:20211107T172610Z
UID:790-1644435000-1644449400@schuetzen-roesrath.de
SUMMARY:LG-Training
DESCRIPTION:
URL:http://schuetzen-roesrath.de/termine/lg-training-13/
LOCATION:Schützenheim\, Scharrenbroicher Str. / Schützenplatz\, Rösrath\, NRW\, 51503\, Deutschland
ORGANIZER;CN="St. Sebastianus Sch%C3%BCtzenbruderschaft R%C3%B6srath 1927 e.V.":MAILTO:info@schuetzen-roesrath.de
END:VEVENT
BEGIN:VEVENT
DTSTART;TZID=Europe/Berlin:20220214T150000
DTEND;TZID=Europe/Berlin:20220214T190000
DTSTAMP:20260425T050517
CREATED:20211107T172518Z
LAST-MODIFIED:20211107T172518Z
UID:788-1644850800-1644865200@schuetzen-roesrath.de
SUMMARY:KK-Training
DESCRIPTION:KK-Gewehr aufgelegt 50m \nKK-Pistole 25m
URL:http://schuetzen-roesrath.de/termine/kk-training-13/
LOCATION:Schützenheim\, Scharrenbroicher Str. / Schützenplatz\, Rösrath\, NRW\, 51503\, Deutschland
ORGANIZER;CN="St. Sebastianus Sch%C3%BCtzenbruderschaft R%C3%B6srath 1927 e.V.":MAILTO:info@schuetzen-roesrath.de
END:VEVENT
BEGIN:VEVENT
DTSTART;TZID=Europe/Berlin:20220216T170000
DTEND;TZID=Europe/Berlin:20220216T190000
DTSTAMP:20260425T050517
CREATED:20211107T172710Z
LAST-MODIFIED:20211107T172710Z
UID:792-1645030800-1645038000@schuetzen-roesrath.de
SUMMARY:Jugend LG/LP-Training
DESCRIPTION:
URL:http://schuetzen-roesrath.de/termine/jugend-lg-lp-training-11/
LOCATION:Schützenheim\, Scharrenbroicher Str. / Schützenplatz\, Rösrath\, NRW\, 51503\, Deutschland
ORGANIZER;CN="St. Sebastianus Sch%C3%BCtzenbruderschaft R%C3%B6srath 1927 e.V.":MAILTO:info@schuetzen-roesrath.de
END:VEVENT
BEGIN:VEVENT
DTSTART;TZID=Europe/Berlin:20220216T193000
DTEND;TZID=Europe/Berlin:20220216T233000
DTSTAMP:20260425T050517
CREATED:20211107T172801Z
LAST-MODIFIED:20211107T172801Z
UID:794-1645039800-1645054200@schuetzen-roesrath.de
SUMMARY:LG-Training
DESCRIPTION:
URL:http://schuetzen-roesrath.de/termine/lg-training-14/
LOCATION:Schützenheim\, Scharrenbroicher Str. / Schützenplatz\, Rösrath\, NRW\, 51503\, Deutschland
ORGANIZER;CN="St. Sebastianus Sch%C3%BCtzenbruderschaft R%C3%B6srath 1927 e.V.":MAILTO:info@schuetzen-roesrath.de
END:VEVENT
BEGIN:VEVENT
DTSTART;TZID=Europe/Berlin:20220221T150000
DTEND;TZID=Europe/Berlin:20220221T173000
DTSTAMP:20260425T050517
CREATED:20211107T172908Z
LAST-MODIFIED:20220104T102558Z
UID:796-1645455600-1645464600@schuetzen-roesrath.de
SUMMARY:KK-Training
DESCRIPTION:KK-Gewehr aufgelegt 50m \nKK-Pistole 25m
URL:http://schuetzen-roesrath.de/termine/kk-training-14/
LOCATION:Schützenheim\, Scharrenbroicher Str. / Schützenplatz\, Rösrath\, NRW\, 51503\, Deutschland
ORGANIZER;CN="St. Sebastianus Sch%C3%BCtzenbruderschaft R%C3%B6srath 1927 e.V.":MAILTO:info@schuetzen-roesrath.de
END:VEVENT
BEGIN:VEVENT
DTSTART;TZID=Europe/Berlin:20220221T180000
DTEND;TZID=Europe/Berlin:20220221T210000
DTSTAMP:20260425T050517
CREATED:20220104T102514Z
LAST-MODIFIED:20220104T102514Z
UID:922-1645466400-1645477200@schuetzen-roesrath.de
SUMMARY:RöBus
DESCRIPTION:
URL:http://schuetzen-roesrath.de/termine/roebus-2/
LOCATION:Schützenheim\, Scharrenbroicher Str. / Schützenplatz\, Rösrath\, NRW\, 51503\, Deutschland
ORGANIZER;CN="St. Sebastianus Sch%C3%BCtzenbruderschaft R%C3%B6srath 1927 e.V.":MAILTO:info@schuetzen-roesrath.de
END:VEVENT
BEGIN:VEVENT
DTSTART;TZID=Europe/Berlin:20220223T170000
DTEND;TZID=Europe/Berlin:20220223T190000
DTSTAMP:20260425T050517
CREATED:20211107T173024Z
LAST-MODIFIED:20211107T173024Z
UID:798-1645635600-1645642800@schuetzen-roesrath.de
SUMMARY:Jugend LG/LP-Training
DESCRIPTION:
URL:http://schuetzen-roesrath.de/termine/jugend-lg-lp-training-12/
LOCATION:Schützenheim\, Scharrenbroicher Str. / Schützenplatz\, Rösrath\, NRW\, 51503\, Deutschland
ORGANIZER;CN="St. Sebastianus Sch%C3%BCtzenbruderschaft R%C3%B6srath 1927 e.V.":MAILTO:info@schuetzen-roesrath.de
END:VEVENT
BEGIN:VEVENT
DTSTART;TZID=Europe/Berlin:20220223T193000
DTEND;TZID=Europe/Berlin:20220223T233000
DTSTAMP:20260425T050517
CREATED:20211107T173117Z
LAST-MODIFIED:20211107T173117Z
UID:800-1645644600-1645659000@schuetzen-roesrath.de
SUMMARY:LG-Training
DESCRIPTION:
URL:http://schuetzen-roesrath.de/termine/lg-training-15/
LOCATION:Schützenheim\, Scharrenbroicher Str. / Schützenplatz\, Rösrath\, NRW\, 51503\, Deutschland
ORGANIZER;CN="St. Sebastianus Sch%C3%BCtzenbruderschaft R%C3%B6srath 1927 e.V.":MAILTO:info@schuetzen-roesrath.de
END:VEVENT
BEGIN:VEVENT
DTSTART;TZID=Europe/Berlin:20220228T150000
DTEND;TZID=Europe/Berlin:20220228T190000
DTSTAMP:20260425T050517
CREATED:20211107T173325Z
LAST-MODIFIED:20211107T173325Z
UID:802-1646060400-1646074800@schuetzen-roesrath.de
SUMMARY:KK-Training
DESCRIPTION:KK-Gewehr aufgelegt 50m \nKK-Pistole 25m
URL:http://schuetzen-roesrath.de/termine/kk-training-15/
LOCATION:Schützenheim\, Scharrenbroicher Str. / Schützenplatz\, Rösrath\, NRW\, 51503\, Deutschland
ORGANIZER;CN="St. Sebastianus Sch%C3%BCtzenbruderschaft R%C3%B6srath 1927 e.V.":MAILTO:info@schuetzen-roesrath.de
END:VEVENT
END:VCALENDAR