BEGIN:VCALENDAR
VERSION:2.0
PRODID:-//St. Sebastianus Schützenbruderschaft Rösrath 1927 e.V. - ECPv6.15.16.1//NONSGML v1.0//EN
CALSCALE:GREGORIAN
METHOD:PUBLISH
X-ORIGINAL-URL:http://schuetzen-roesrath.de
X-WR-CALDESC:Veranstaltungen für St. Sebastianus Schützenbruderschaft Rösrath 1927 e.V.
REFRESH-INTERVAL;VALUE=DURATION:PT1H
X-Robots-Tag:noindex
X-PUBLISHED-TTL:PT1H
BEGIN:VTIMEZONE
TZID:Europe/Berlin
BEGIN:DAYLIGHT
TZOFFSETFROM:+0100
TZOFFSETTO:+0200
TZNAME:CEST
DTSTART:20230326T010000
END:DAYLIGHT
BEGIN:STANDARD
TZOFFSETFROM:+0200
TZOFFSETTO:+0100
TZNAME:CET
DTSTART:20231029T010000
END:STANDARD
BEGIN:DAYLIGHT
TZOFFSETFROM:+0100
TZOFFSETTO:+0200
TZNAME:CEST
DTSTART:20240331T010000
END:DAYLIGHT
BEGIN:STANDARD
TZOFFSETFROM:+0200
TZOFFSETTO:+0100
TZNAME:CET
DTSTART:20241027T010000
END:STANDARD
BEGIN:DAYLIGHT
TZOFFSETFROM:+0100
TZOFFSETTO:+0200
TZNAME:CEST
DTSTART:20250330T010000
END:DAYLIGHT
BEGIN:STANDARD
TZOFFSETFROM:+0200
TZOFFSETTO:+0100
TZNAME:CET
DTSTART:20251026T010000
END:STANDARD
BEGIN:DAYLIGHT
TZOFFSETFROM:+0100
TZOFFSETTO:+0200
TZNAME:CEST
DTSTART:20260329T010000
END:DAYLIGHT
BEGIN:STANDARD
TZOFFSETFROM:+0200
TZOFFSETTO:+0100
TZNAME:CET
DTSTART:20261025T010000
END:STANDARD
END:VTIMEZONE
BEGIN:VEVENT
DTSTART;TZID=Europe/Berlin:20250220T183000
DTEND;TZID=Europe/Berlin:20250220T220000
DTSTAMP:20260421T110553
CREATED:20241027T143642Z
LAST-MODIFIED:20241027T143642Z
UID:2098-1740076200-1740088800@schuetzen-roesrath.de
SUMMARY:Wettkampf Senioren: Bärbroich-Herkenrath gegen Rösrath
DESCRIPTION:
URL:http://schuetzen-roesrath.de/termine/wettkampf-senioren-baerbroich-herkenrath-gegen-roesrath/
END:VEVENT
BEGIN:VEVENT
DTSTART;TZID=Europe/Berlin:20250130T183000
DTEND;TZID=Europe/Berlin:20250130T220000
DTSTAMP:20260421T110553
CREATED:20241027T143348Z
LAST-MODIFIED:20241027T143348Z
UID:2090-1738261800-1738274400@schuetzen-roesrath.de
SUMMARY:Wettkampf Schützen Aufgelegt: Bärbroch-Herkenrath gegen Rösrath II
DESCRIPTION:
URL:http://schuetzen-roesrath.de/termine/wettkampf-schuetzen-aufgelegt-baerbroch-herkenrath-gegen-roesrath-ii/
END:VEVENT
BEGIN:VEVENT
DTSTART;TZID=Europe/Berlin:20250130T183000
DTEND;TZID=Europe/Berlin:20250130T220000
DTSTAMP:20260421T110553
CREATED:20241027T143217Z
LAST-MODIFIED:20241027T143217Z
UID:2087-1738261800-1738274400@schuetzen-roesrath.de
SUMMARY:Wettkampf Schützen Aufgelegt: Biefeld gegen Rösrath I
DESCRIPTION:
URL:http://schuetzen-roesrath.de/termine/wettkampf-schuetzen-aufgelegt-biefeld-gegen-roesrath-i/
END:VEVENT
BEGIN:VEVENT
DTSTART;TZID=Europe/Berlin:20250116T183000
DTEND;TZID=Europe/Berlin:20250116T220000
DTSTAMP:20260421T110553
CREATED:20241027T143549Z
LAST-MODIFIED:20241027T143549Z
UID:2096-1737052200-1737064800@schuetzen-roesrath.de
SUMMARY:Wettkampf Senioren: Rösrath gegen Biesfeld
DESCRIPTION:
URL:http://schuetzen-roesrath.de/termine/wettkampf-senioren-roesrath-gegen-biesfeld/
END:VEVENT
BEGIN:VEVENT
DTSTART;TZID=Europe/Berlin:20250110T183000
DTEND;TZID=Europe/Berlin:20250110T220000
DTSTAMP:20260421T110553
CREATED:20241027T143018Z
LAST-MODIFIED:20241027T143018Z
UID:2081-1736533800-1736546400@schuetzen-roesrath.de
SUMMARY:Wettkampf Schützen Aufgelegt: Rösrath II gegen Rösrath I
DESCRIPTION:
URL:http://schuetzen-roesrath.de/termine/wettkampf-schuetzen-aufgelegt-roesrath-ii-gegen-roesrath-i/
END:VEVENT
BEGIN:VEVENT
DTSTART;TZID=Europe/Berlin:20241205T183000
DTEND;TZID=Europe/Berlin:20241205T220000
DTSTAMP:20260421T110553
CREATED:20241027T143142Z
LAST-MODIFIED:20241027T143142Z
UID:2085-1733423400-1733436000@schuetzen-roesrath.de
SUMMARY:Wettkampf Schützen Aufgelegt: Bärbroich-Herkenrath gegen Rösrath II
DESCRIPTION:
URL:http://schuetzen-roesrath.de/termine/wettkampf-schuetzen-aufgelegt-baerbroich-herkenrath-gegen-roesrath-ii/
END:VEVENT
BEGIN:VEVENT
DTSTART;TZID=Europe/Berlin:20241205T183000
DTEND;TZID=Europe/Berlin:20241205T220000
DTSTAMP:20260421T110553
CREATED:20241027T143105Z
LAST-MODIFIED:20241027T143105Z
UID:2083-1733423400-1733436000@schuetzen-roesrath.de
SUMMARY:Wettkampf Schützen Aufgelegt: Biesfeld gegen Rösrath I
DESCRIPTION:
URL:http://schuetzen-roesrath.de/termine/wettkampf-schuetzen-aufgelegt-biesfeld-gegen-roesrath-i/
END:VEVENT
BEGIN:VEVENT
DTSTART;TZID=Europe/Berlin:20241128T183000
DTEND;TZID=Europe/Berlin:20241128T220000
DTSTAMP:20260421T110553
CREATED:20241027T143513Z
LAST-MODIFIED:20241027T143513Z
UID:2094-1732818600-1732831200@schuetzen-roesrath.de
SUMMARY:Wettkampf Senioren: Rösrath gegen Bärbroich-Herkenrath
DESCRIPTION:
URL:http://schuetzen-roesrath.de/termine/wettkampf-senioren-roesrath-gegen-baerbroich-herkenrath/
END:VEVENT
BEGIN:VEVENT
DTSTART;TZID=Europe/Berlin:20241119T183000
DTEND;TZID=Europe/Berlin:20241119T220000
DTSTAMP:20260421T110553
CREATED:20241027T142918Z
LAST-MODIFIED:20241027T142918Z
UID:2079-1732041000-1732053600@schuetzen-roesrath.de
SUMMARY:Wettkampf Schützen Aufgelegt: Rösrath I gegen Bärbroich-Herkenrath
DESCRIPTION:
URL:http://schuetzen-roesrath.de/termine/wettkampf-schuetzen-aufgelegt-roesrath-i-gegen-baerbroich-herkenrath/
END:VEVENT
BEGIN:VEVENT
DTSTART;TZID=Europe/Berlin:20241114T183000
DTEND;TZID=Europe/Berlin:20241114T220000
DTSTAMP:20260421T110553
CREATED:20241027T143441Z
LAST-MODIFIED:20241027T143441Z
UID:2092-1731609000-1731621600@schuetzen-roesrath.de
SUMMARY:Wettkampf Senioren: Biefeld gegen Rösrath
DESCRIPTION:
URL:http://schuetzen-roesrath.de/termine/wettkampf-senioren-biefeld-gegen-roesrath/
END:VEVENT
BEGIN:VEVENT
DTSTART;TZID=Europe/Berlin:20241105T190000
DTEND;TZID=Europe/Berlin:20241105T220000
DTSTAMP:20260421T110553
CREATED:20241027T142749Z
LAST-MODIFIED:20241027T142813Z
UID:2076-1730833200-1730844000@schuetzen-roesrath.de
SUMMARY:Wettkampf Schützen Aufgelegt: Rösrath I gegen Rösrath II
DESCRIPTION:
URL:http://schuetzen-roesrath.de/termine/2076/
END:VEVENT
BEGIN:VEVENT
DTSTART;TZID=Europe/Berlin:20241022T193000
DTEND;TZID=Europe/Berlin:20241022T213000
DTSTAMP:20260421T110553
CREATED:20231106T104840Z
LAST-MODIFIED:20231106T104840Z
UID:1794-1729625400-1729632600@schuetzen-roesrath.de
SUMMARY:Bezirksherbstversammlung
DESCRIPTION:
URL:http://schuetzen-roesrath.de/termine/bezirksherbstversammlung/
END:VEVENT
BEGIN:VEVENT
DTSTART;TZID=Europe/Berlin:20240924T193000
DTEND;TZID=Europe/Berlin:20240924T213000
DTSTAMP:20260421T110553
CREATED:20231106T104804Z
LAST-MODIFIED:20231106T104804Z
UID:1792-1727206200-1727213400@schuetzen-roesrath.de
SUMMARY:Bruderratssitzung
DESCRIPTION:
URL:http://schuetzen-roesrath.de/termine/bruderratssitzung/
END:VEVENT
BEGIN:VEVENT
DTSTART;TZID=Europe/Berlin:20240921T140000
DTEND;TZID=Europe/Berlin:20240921T190000
DTSTAMP:20260421T110553
CREATED:20231106T104732Z
LAST-MODIFIED:20231106T104732Z
UID:1790-1726927200-1726945200@schuetzen-roesrath.de
SUMMARY:Bezirksbestenschießen Jugend
DESCRIPTION:
URL:http://schuetzen-roesrath.de/termine/bezirksbestenschiessen-jugend-2/
END:VEVENT
BEGIN:VEVENT
DTSTART;VALUE=DATE:20240830
DTEND;VALUE=DATE:20240902
DTSTAMP:20260421T110553
CREATED:20231106T104517Z
LAST-MODIFIED:20231106T104517Z
UID:1788-1724976000-1725235199@schuetzen-roesrath.de
SUMMARY:Schützenfest Rösrath
DESCRIPTION:
URL:http://schuetzen-roesrath.de/termine/schuetzenfest-roesrath-3/
END:VEVENT
BEGIN:VEVENT
DTSTART;TZID=Europe/Berlin:20240608T190000
DTEND;TZID=Europe/Berlin:20240608T233000
DTSTAMP:20260421T110553
CREATED:20231106T104437Z
LAST-MODIFIED:20231106T104437Z
UID:1786-1717873200-1717889400@schuetzen-roesrath.de
SUMMARY:Königsabend
DESCRIPTION:
URL:http://schuetzen-roesrath.de/termine/koenigsabend/
END:VEVENT
BEGIN:VEVENT
DTSTART;TZID=Europe/Berlin:20240427T140000
DTEND;TZID=Europe/Berlin:20240427T190000
DTSTAMP:20260421T110553
CREATED:20231106T104405Z
LAST-MODIFIED:20231106T104405Z
UID:1784-1714226400-1714244400@schuetzen-roesrath.de
SUMMARY:Bezirksmajestäten - Bezirkspokalschießen Jugend
DESCRIPTION:
URL:http://schuetzen-roesrath.de/termine/bezirksmajestaeten-bezirkspokalschiessen-jugend/
END:VEVENT
BEGIN:VEVENT
DTSTART;TZID=Europe/Berlin:20240418T180000
DTEND;TZID=Europe/Berlin:20240418T220000
DTSTAMP:20260421T110553
CREATED:20231106T104325Z
LAST-MODIFIED:20231106T104325Z
UID:1782-1713463200-1713477600@schuetzen-roesrath.de
SUMMARY:Bezirkspokalschießen Schützen
DESCRIPTION:
URL:http://schuetzen-roesrath.de/termine/bezirkspokalschiessen-schuetzen-3/
END:VEVENT
BEGIN:VEVENT
DTSTART;TZID=Europe/Berlin:20240416T180000
DTEND;TZID=Europe/Berlin:20240416T220000
DTSTAMP:20260421T110553
CREATED:20231106T104258Z
LAST-MODIFIED:20231106T104258Z
UID:1780-1713290400-1713304800@schuetzen-roesrath.de
SUMMARY:Bezirkspokalschießen Senioren / Altersklasse
DESCRIPTION:
URL:http://schuetzen-roesrath.de/termine/bezirkspokalschiessen-senioren-altersklasse-2/
END:VEVENT
BEGIN:VEVENT
DTSTART;TZID=Europe/Berlin:20240403T193000
DTEND;TZID=Europe/Berlin:20240403T233000
DTSTAMP:20260421T110553
CREATED:20240305T131425Z
LAST-MODIFIED:20240305T131425Z
UID:2059-1712172600-1712187000@schuetzen-roesrath.de
SUMMARY:Training Schützen LG
DESCRIPTION:
URL:http://schuetzen-roesrath.de/termine/training-schuetzen-lg-4/
ORGANIZER;CN="St. Sebastianus Sch%C3%BCtzenbruderschaft R%C3%B6srath 1927 e.V.":MAILTO:info@schuetzen-roesrath.de
END:VEVENT
BEGIN:VEVENT
DTSTART;TZID=Europe/Berlin:20240403T173000
DTEND;TZID=Europe/Berlin:20240403T190000
DTSTAMP:20260421T110553
CREATED:20240305T131346Z
LAST-MODIFIED:20240305T131346Z
UID:2057-1712165400-1712170800@schuetzen-roesrath.de
SUMMARY:Training Jugend LG/LP
DESCRIPTION:
URL:http://schuetzen-roesrath.de/termine/training-jugend-lg-lp-3/
ORGANIZER;CN="St. Sebastianus Sch%C3%BCtzenbruderschaft R%C3%B6srath 1927 e.V.":MAILTO:info@schuetzen-roesrath.de
END:VEVENT
BEGIN:VEVENT
DTSTART;TZID=Europe/Berlin:20240401T150000
DTEND;TZID=Europe/Berlin:20240401T180000
DTSTAMP:20260421T110553
CREATED:20240305T131526Z
LAST-MODIFIED:20240305T131608Z
UID:2061-1711983600-1711994400@schuetzen-roesrath.de
SUMMARY:Training KK
DESCRIPTION:
URL:http://schuetzen-roesrath.de/termine/training-kk/
ORGANIZER;CN="St. Sebastianus Sch%C3%BCtzenbruderschaft R%C3%B6srath 1927 e.V.":MAILTO:info@schuetzen-roesrath.de
END:VEVENT
BEGIN:VEVENT
DTSTART;TZID=Europe/Berlin:20240327T193000
DTEND;TZID=Europe/Berlin:20240327T233000
DTSTAMP:20260421T110553
CREATED:20240305T130947Z
LAST-MODIFIED:20240305T130947Z
UID:2053-1711567800-1711582200@schuetzen-roesrath.de
SUMMARY:Training Schützen LG
DESCRIPTION:
URL:http://schuetzen-roesrath.de/termine/training-schuetzen-lg-3/
ORGANIZER;CN="St. Sebastianus Sch%C3%BCtzenbruderschaft R%C3%B6srath 1927 e.V.":MAILTO:info@schuetzen-roesrath.de
END:VEVENT
BEGIN:VEVENT
DTSTART;TZID=Europe/Berlin:20240327T173000
DTEND;TZID=Europe/Berlin:20240327T190000
DTSTAMP:20260421T110553
CREATED:20240305T130905Z
LAST-MODIFIED:20240305T130905Z
UID:2051-1711560600-1711566000@schuetzen-roesrath.de
SUMMARY:Training Jugend LG/LP
DESCRIPTION:
URL:http://schuetzen-roesrath.de/termine/training-jugend-lg-lp-2/
ORGANIZER;CN="St. Sebastianus Sch%C3%BCtzenbruderschaft R%C3%B6srath 1927 e.V.":MAILTO:info@schuetzen-roesrath.de
END:VEVENT
BEGIN:VEVENT
DTSTART;TZID=Europe/Berlin:20240324T140000
DTEND;TZID=Europe/Berlin:20240324T173000
DTSTAMP:20260421T110553
CREATED:20240305T131302Z
LAST-MODIFIED:20240305T131302Z
UID:2055-1711288800-1711301400@schuetzen-roesrath.de
SUMMARY:Osterschießen für Alle
DESCRIPTION:
URL:http://schuetzen-roesrath.de/termine/osterschiessen-fuer-alle/
ORGANIZER;CN="St. Sebastianus Sch%C3%BCtzenbruderschaft R%C3%B6srath 1927 e.V.":MAILTO:info@schuetzen-roesrath.de
END:VEVENT
BEGIN:VEVENT
DTSTART;TZID=Europe/Berlin:20240321T193000
DTEND;TZID=Europe/Berlin:20240321T213000
DTSTAMP:20260421T110553
CREATED:20231120T081414Z
LAST-MODIFIED:20231120T081414Z
UID:1829-1711049400-1711056600@schuetzen-roesrath.de
SUMMARY:Wettkampf Schützen (Bärbroich-Herkenrath - Rösrath)
DESCRIPTION:
URL:http://schuetzen-roesrath.de/termine/wettkampf-schuetzen-baerbroich-herkenrath-roesrath/
END:VEVENT
BEGIN:VEVENT
DTSTART;TZID=Europe/Berlin:20240320T193000
DTEND;TZID=Europe/Berlin:20240320T233000
DTSTAMP:20260421T110553
CREATED:20240305T130610Z
LAST-MODIFIED:20240305T130610Z
UID:2047-1710963000-1710977400@schuetzen-roesrath.de
SUMMARY:Training Schützen LG
DESCRIPTION:
URL:http://schuetzen-roesrath.de/termine/training-schuetzen-lg-2/
ORGANIZER;CN="St. Sebastianus Sch%C3%BCtzenbruderschaft R%C3%B6srath 1927 e.V.":MAILTO:info@schuetzen-roesrath.de
END:VEVENT
BEGIN:VEVENT
DTSTART;TZID=Europe/Berlin:20240320T173000
DTEND;TZID=Europe/Berlin:20240320T190000
DTSTAMP:20260421T110553
CREATED:20240305T130521Z
LAST-MODIFIED:20240305T130521Z
UID:2045-1710955800-1710961200@schuetzen-roesrath.de
SUMMARY:Training Jugend LG/LP
DESCRIPTION:
URL:http://schuetzen-roesrath.de/termine/training-jugend-lg-lp/
ORGANIZER;CN="St. Sebastianus Sch%C3%BCtzenbruderschaft R%C3%B6srath 1927 e.V.":MAILTO:info@schuetzen-roesrath.de
END:VEVENT
BEGIN:VEVENT
DTSTART;TZID=Europe/Berlin:20240318T150000
DTEND;TZID=Europe/Berlin:20240318T180000
DTSTAMP:20260421T110553
CREATED:20240305T122743Z
LAST-MODIFIED:20240305T122743Z
UID:2035-1710774000-1710784800@schuetzen-roesrath.de
SUMMARY:KK-Training
DESCRIPTION:
URL:http://schuetzen-roesrath.de/termine/kk-training-41/
ORGANIZER;CN="St. Sebastianus Sch%C3%BCtzenbruderschaft R%C3%B6srath 1927 e.V.":MAILTO:info@schuetzen-roesrath.de
END:VEVENT
BEGIN:VEVENT
DTSTART;TZID=Europe/Berlin:20240314T193000
DTEND;TZID=Europe/Berlin:20240314T213000
DTSTAMP:20260421T110553
CREATED:20231120T172112Z
LAST-MODIFIED:20231120T172112Z
UID:1853-1710444600-1710451800@schuetzen-roesrath.de
SUMMARY:Wettkampf Aufgelegt Schützen (Rösrath I - Bärbroich-Herkenrath)
DESCRIPTION:
URL:http://schuetzen-roesrath.de/termine/wettkampf-aufgelegt-schuetzen-roesrath-i-baerbroich-herkenrath/
END:VEVENT
END:VCALENDAR